BEGIN:VCALENDAR
VERSION:2.0
PRODID:-//Fleck | Dachzubehör! - ECPv6.15.20//NONSGML v1.0//EN
CALSCALE:GREGORIAN
METHOD:PUBLISH
X-WR-CALNAME:Fleck | Dachzubehör!
X-ORIGINAL-URL:https://fleck-dach.de
X-WR-CALDESC:Veranstaltungen für Fleck | Dachzubehör!
REFRESH-INTERVAL;VALUE=DURATION:PT1H
X-Robots-Tag:noindex
X-PUBLISHED-TTL:PT1H
BEGIN:VTIMEZONE
TZID:Europe/Berlin
BEGIN:DAYLIGHT
TZOFFSETFROM:+0100
TZOFFSETTO:+0200
TZNAME:CEST
DTSTART:20240331T010000
END:DAYLIGHT
BEGIN:STANDARD
TZOFFSETFROM:+0200
TZOFFSETTO:+0100
TZNAME:CET
DTSTART:20241027T010000
END:STANDARD
BEGIN:DAYLIGHT
TZOFFSETFROM:+0100
TZOFFSETTO:+0200
TZNAME:CEST
DTSTART:20250330T010000
END:DAYLIGHT
BEGIN:STANDARD
TZOFFSETFROM:+0200
TZOFFSETTO:+0100
TZNAME:CET
DTSTART:20251026T010000
END:STANDARD
BEGIN:DAYLIGHT
TZOFFSETFROM:+0100
TZOFFSETTO:+0200
TZNAME:CEST
DTSTART:20260329T010000
END:DAYLIGHT
BEGIN:STANDARD
TZOFFSETFROM:+0200
TZOFFSETTO:+0100
TZNAME:CET
DTSTART:20261025T010000
END:STANDARD
END:VTIMEZONE
BEGIN:VEVENT
DTSTART;TZID=Europe/Berlin:20250205T173000
DTEND;TZID=Europe/Berlin:20250205T210000
DTSTAMP:20260426T015248
CREATED:20250127T125858Z
LAST-MODIFIED:20250127T125858Z
UID:10000354-1738776600-1738789200@fleck-dach.de
SUMMARY:Jahreshauptversammlung der Dachdecker-Innung Mayen Ahrweiler Cochem-Zell 2025
DESCRIPTION:Am 5. Februar lädt die Dachdecker-Innung Mayen Ahrweiler Cochem-Zell zur diesjährigen Jahreshauptversammlung nach Kaisersesch ein. Unser Gebietsverkaufsleiter Erik Disselbeck wird vor Ort sein. \n  \nPräsentiert von \n \n  \nFür Sie von FLECK vor Ort \nErik Disselbeck\, Gebietsverkaufsleiter in den PLZ-Bereichen 50\, 52–56\, 60–69
URL:https://fleck-dach.de/termine/jahreshauptversammlung-der-dachdecker-innung-mayen-ahrweiler-cochem-zell-2025/
LOCATION:Waldhotel Kurfüst Kaisersesch\, Auf der Wacht 21\, Kaisersesch\, Rheinland-Pfalz\, 56759\, Deutschland
CATEGORIES:Verarbeiter
ATTACH;FMTTYPE=image/jpeg:https://fleck-dach.de/wp-content/uploads/2023/10/pexels-op-12323326-scaled-e1699538591678.jpg
ORGANIZER;CN="Dachdecker-Innung Mayen Ahrweiler Cochem-Zell":MAILTO:info@dachdecker-innung-mayen-ahrweiler.de
END:VEVENT
BEGIN:VEVENT
DTSTART;TZID=Europe/Berlin:20250206T100000
DTEND;TZID=Europe/Berlin:20250206T170000
DTSTAMP:20260426T015248
CREATED:20241209T131642Z
LAST-MODIFIED:20250109T074654Z
UID:10000328-1738836000-1738861200@fleck-dach.de
SUMMARY:Flachdächer meisterhaft (um)gestalten
DESCRIPTION:Das Flachdach hat durch immer neue Anforderungen und Nutzungsänderungen seine ganz eigenen Tücken\, die der Profi beachten sollte. Wer sich heute mit der korrekten Planung\, der Umsetzung und richtigen Materialauswahl für den Bau und die Sanierung von Flachdächern auseinandersetzen muss\, hat es nicht leicht. Es ist so viel zu beachten und jeder kleine Fehler kann zu folgeschweren Schäden für das gesamte Gebäude führen. In diesem Seminar wird Ihnen von unseren Fachreferenten aktuelles Wissen aus Theorie und Praxis vermittelt und vorhandene Kenntnisse rund um die korrekte Abdichtung\, Sicherheit und Bearbeitung von Flachdächern aufgefrischt. \nSeminarinhalte: \n\nVom Flachdach zum Nutzdach – Was extreme Wetter den Dächern heute (nicht) anhaben können: Diplom-Physiker Peter Nowack\, Senior Produktmanager\, Fleck GmbH\nFlachdächer im Klimawandel und Nutzung eines Daches als grüne Oase: Christian Brand\, Dachdeckermeister/Fachberater und Dipl.-Ing. Stephan Sachs\, Leiter Anwendungstechnik\, MOGAT Werke Adolf Böving Bitumen- und Dachpappenfabrik GmbH\nAutomatisierung und Digitalisierung beim Nahtfugen von Dachbahnen: Marcel Hellmich\, Technischer Vertrieb/Außendienst\, Leister Technologies Deutschland GmbH\nPVC als nachhaltiger Werkstoff für Flachdach-Zubehör: André Eisner\, Key Account Manager/Gebietsverkaufsleitung Nord\, profine GmbH\nSteinwolle\, der Alleskönner: Sefa Metin\, Kundenberater Architekten und Ingenieure\, DEUTSCHE ROCKWOOL GmbH & Co. KG\nWie man es besser nicht macht – Schadensfälle aus der Praxis: Diplom-Kaufmann Heiko Kentzler\, Inhaber\, Sachverständigenbüro KENTZLER\nAbsturzsicherung im Flachdach: Frank Klinnert\, Gebietsleiter Absturzsicherungssysteme\, SKYLOTEC GmbH\n\n  \nHinweis: Die Teilnahme ist kostenlos. Die Akkreditierung des Seminars durch die Architektenkammer NRW (AKNRW) sowie der Deutschen Energie-Agentur (dena) ist beantragt. Planer und Architekten erhalten\, nach Bewilligung des Antrags\, für die Teilnahme an diesem Seminar Fortbildungspunkte\, welche durch die AKNRW und die dena anerkannt werden.\n  \nAblauf: \n\n10:00–10:15 Begrüßung FLECK\n10:15–11:00 1. Vortrag\n11:00–11:30 2. Vortrag\n11:30–12:00 3. Vortrag\n12:00–12:30 Mittagspause\n12:30–13:15 Werksführung\n13:15–14:30 Live-Demo\n14:30–15:00 4. Vortrag\n15:00–15:30 5. Vortrag\n15:30–15:45 Kaffeepause\n15:45–16:15 6. Vortrag\n16:15–16:45 7. Vortrag\n16:45–17:00 Zeit für Fragen\nEnde der Veranstaltung\n\n  \nPräsentiert von \n \n  \nFür Sie von FLECK vor Ort \nPeter Nowack\, Produktmanager und Spezialist für Dachzubehör \n\nANMELDUNG\nBitte aktiviere JavaScript in deinem Browser\, um dieses Formular fertigzustellen.Anrede *FrauHerrNeutrale AnredeKeine AnredeName *VornameNachnameFirma (optional)Anschrift *Adresse Zeile 1Anschrift ZusatzStadtRegionPostleitzahlE-Mail *Telefon *Angaben zum Beruf *Ich bin DachhandwerkerIch bin Planer/ArchitektIch bin HändlerIch bin EnergieberaterSonstigesBenötigen Sie eine Bescheinigung zur Teilnahme an diesem Seminar für die dena / AKNRW? *Ja\, ich benötige eine Bescheinigung für die denaJa\, ich benötige eine Bescheinigung für die AKNRWNein\, ich benötige keine BescheinigungMelden Sie sich direkt für weitere Seminare anSonnige Aussichten für steile Dächer am 05.03.2026Sonnige Aussichten für steile Dächer am 16.04.2026Sonnige Aussichten für steile Dächer am 19.11.2026GRÜN(durch)DACH(t) – Technik\, Wissen\, Zukunft! am 19.03.2026GRÜN(durch)DACH(t) – Technik\, Wissen\, Zukunft! am 23.04.2026GRÜN(durch)DACH(t) – Technik\, Wissen\, Zukunft! am 05.11.2026Arbeitssicherheit bei Dacharbeiten/Fortbildung für Sicherheitsbeauftragte am 12.02.2026Keine Angst vor Kunden: Gesprächskompetenz als Strategie im Dachhandwerk am 03.12.2026Wie haben Sie von dem Event erfahren? *Ich bin über die Medien auf das Event aufmerksam geworden.Ich habe ein postalisches Mailing erhalten.Ich habe ein digitales Mailing erhalten.Weiterempfehlung von Kolleg:innen und/oder BekanntenAnderer GrundDatenschutzerklärung *Ich habe die Datenschutzerklärung zur Kenntnis genommen.Anmelden  \nBitte beachten Sie zudem\, dass auf der Veranstaltung Fotos gemacht werden\, mit deren späterer Verwendung Sie sich durch den Besuch der Veranstaltung einverstanden erklären.
URL:https://fleck-dach.de/termine/flachdaecher-meisterhaft-umgestalten-februar/
LOCATION:FLECKtory – Oskar Fleck Informationszentrum\, Winkelfeld 6\, Oer-Erkenschwick\, Nordrhein-Westfalen\, 45739\, Deutschland
CATEGORIES:Handel,Planer/Architekten,Verarbeiter
ATTACH;FMTTYPE=image/png:https://fleck-dach.de/wp-content/uploads/2023/02/fle_veranstaltung_flachdach-e1736408326318.png
ORGANIZER;CN="FLECK Akademie":MAILTO:akademie@fleck-dach.de
END:VEVENT
BEGIN:VEVENT
DTSTART;TZID=Europe/Berlin:20250207T173000
DTEND;TZID=Europe/Berlin:20250207T220000
DTSTAMP:20260426T015248
CREATED:20241209T144214Z
LAST-MODIFIED:20241209T144214Z
UID:10000338-1738949400-1738965600@fleck-dach.de
SUMMARY:Festabend DEG Soltau 2025
DESCRIPTION:Am 7. Februar lädt die Dachdecker-Einkauf Soltau e.G. im Anschluss an die 100. Generalversammlung zum Jubiläums-Festabend ein. FLECK wird vertreten durch unseren Geschäftsführer Christoph Nielacny sowie die Gebietsverkaufsleiter Daniel Bläsing\, Olaf Bellack und Danny Neuhaus. \n  \nPräsentiert von \n \n  \nFür Sie von FLECK vor Ort \nChristoph Nielacny\, Geschäftsführer der Fleck GmbH \nDaniel Bläsing\, Gebietsverkaufsleiter im PLZ-Bereich 2 \nOlaf Bellack\, Gebietsverkaufsleiter in den PLZ-Bereichen 1\, 03 \nDanny Neuhaus\, Gebietsverkaufsleiter im PLZ-Bereich 3
URL:https://fleck-dach.de/termine/festabend-deg-soltau-2025/
LOCATION:Heide Park Resort Soltau\, Heide Park 1\, Soltau\, 29614\, Deutschland
CATEGORIES:Handel,Verarbeiter
ATTACH;FMTTYPE=image/jpeg:https://fleck-dach.de/wp-content/uploads/2024/12/heidepark-soltau.jpg
ORGANIZER;CN="Dachdecker-Einkauf Soltau e.G.":MAILTO:info@dachdecker-einkauf-soltau.de
END:VEVENT
BEGIN:VEVENT
DTSTART;VALUE=DATE:20250218
DTEND;VALUE=DATE:20250219
DTSTAMP:20260426T015248
CREATED:20241218T101231Z
LAST-MODIFIED:20241218T101231Z
UID:10000342-1739836800-1739923199@fleck-dach.de
SUMMARY:COBA Dach-Forum 2025
DESCRIPTION:In den letzten Jahren hat sich das COBA Dach-Forum stets als Besuchermagnet erwiesen und jährlich rund 300 Führungskräfte aus Industrie und Fachhandel angelockt und sich damit als festes Branchentreffen etabliert. Das Programm verspricht auch 2025 interessante Vorträge von hochkarätigen Rednern. Als Sponsor der Veranstaltung wird FLECK vor Ort von Geschäftsführer Christoph Nielacny und Gebietsverkaufsleiter Danny Neuhaus vertreten sein. \n  \nPräsentiert von \n \n  \nFür Sie von FLECK vor Ort \nChristoph Nielacny\, Geschäftsführer der Fleck GmbH \n\nDanny Neuhaus\, Gebietsverkaufsleiter im PLZ-Bereich 3
URL:https://fleck-dach.de/termine/coba-dach-forum-2025/
LOCATION:Hannover\, Hannover\, Niedersachsen\, 30159
CATEGORIES:Handel,Verarbeiter
ATTACH;FMTTYPE=image/jpeg:https://fleck-dach.de/wp-content/uploads/2024/12/fle-veranstaltung-coba-dach-forum-scaled-e1734440639384.jpeg
ORGANIZER;CN="COBA-Baustoffgesellschaft f%C3%BCr Dach + Wand GmbH & Co. KG":MAILTO:info@coba-osnabrueck.de
END:VEVENT
BEGIN:VEVENT
DTSTART;TZID=Europe/Berlin:20250220T090000
DTEND;TZID=Europe/Berlin:20250220T170000
DTSTAMP:20260426T015248
CREATED:20241206T162023Z
LAST-MODIFIED:20250218T150214Z
UID:10000334-1740042000-1740070800@fleck-dach.de
SUMMARY:Sicherheitstechnisches Seminar für Dachhandwerker
DESCRIPTION:Unser Experte informiert über die rechtlichen Grundlagen des Arbeitsschutzes. So erhalten Teilnehmer eine praxisbezogene Einführung in sicherheitstechnische Einrichtungen\, lernen die wichtigsten Gesundheitsgefahren und Unfallarten kennen und die Bedeutung und den Aufbau von betrieblichen Sicherheitsprogrammen professionell einzuschätzen. \nReferent: Dr. Christian Zentgraf\, Inhaber\, Sachverständigenbüro Dr. Zentgraf\nSeminarinhalte: \n\nOrganisation des Arbeitsschutzes\n\nWer ist verantwortlich? Was ist mit dem Sicherheitsbeauftragten?\nUnfalluntersuchung und Prävention\nGrundlagen der Unterweisung\nGrundlagen der Gefährdungsbeurteilung\nBetriebsanweisungen\n\n\nGastvortrag: Absturzsicherung Flach- und Steildächer: Karsten Schäfer\, SKYLOTEC\nPersönliche Schutzausrüstung\nGrundlagen des Umgangs mit Gefahrstoffen\nGrundlagen des Brandschutzes\nGrundlagen der Ergonomie im Lager und Büro\nGefährdungen durch Lärm\nInnerbetriebliche Verkehrswege\nLeitern\, Tritte und Gerüste\nUnfälle und erste Hilfe\nSuchterkrankungen und psychische Belastungen\n\n\nHinweis: Die Teilnahme ist kostenlos. Die Architektenkammer NRW vergibt für die Teilnahme an dem Seminar 5 Punkte und die Deutsche Energie-Agentur GmbH (dena) 8 Punkte.\n  \nAblauf: \n\n09:00–09:15 Begrüßung\n09:15–12:00 Optional: 1. Vortrag\n12:00–12:30 Mittagsimbiss\n12:30–13:15 Gastvortrag\n13:15–14:30 2. Vortrag\n14:30–14:45 Kaffeepause\n14:45–17:00 3. Vortrag\nEnde der Veranstaltung\n\n  \nPräsentiert von \n \n\nANMELDUNG\nBitte aktiviere JavaScript in deinem Browser\, um dieses Formular fertigzustellen.Anrede *FrauHerrNeutrale AnredeKeine AnredeName *VornameNachnameFirma (optional)Anschrift *Adresse Zeile 1Anschrift ZusatzStadtRegionPostleitzahlE-Mail *Telefon *Angaben zum Beruf *Ich bin DachhandwerkerIch bin Planer/ArchitektIch bin HändlerIch bin EnergieberaterSonstigesBenötigen Sie eine Bescheinigung zur Teilnahme an diesem Seminar für die dena / AKNRW? *Ja\, ich benötige eine Bescheinigung für die denaJa\, ich benötige eine Bescheinigung für die AKNRWNein\, ich benötige keine BescheinigungMelden Sie sich direkt für weitere Seminare anSonnige Aussichten für steile Dächer am 05.03.2026Sonnige Aussichten für steile Dächer am 16.04.2026Sonnige Aussichten für steile Dächer am 19.11.2026Flachdächer meisterhaft (um)gestalten am 05.02.2026Flachdächer meisterhaft (um)gestalten am 12.03.2026Flachdächer meisterhaft (um)gestalten am 12.11.2026GRÜN(durch)DACH(t) – Technik\, Wissen\, Zukunft! am 19.03.2026GRÜN(durch)DACH(t) – Technik\, Wissen\, Zukunft! am 23.04.2026GRÜN(durch)DACH(t) – Technik\, Wissen\, Zukunft! am 05.11.2026Keine Angst vor Kunden: Gesprächskompetenz als Strategie im Dachhandwerk am 03.12.2026Wie haben Sie von dem Event erfahren? *Ich bin über die Medien auf das Event aufmerksam geworden.Ich habe ein postalisches Mailing erhalten.Ich habe ein digitales Mailing erhalten.Weiterempfehlung von Kolleg:innen und/oder BekanntenAnderer GrundDatenschutzerklärung *Ich habe die Datenschutzerklärung zur Kenntnis genommen.Anmelden  \nBitte beachten Sie zudem\, dass auf der Veranstaltung Fotos gemacht werden\, mit deren späterer Verwendung Sie sich durch den Besuch der Veranstaltung einverstanden erklären.
URL:https://fleck-dach.de/termine/sicherheitstechnisches-seminar-fuer-dachhandwerker-2/
LOCATION:FLECKtory – Oskar Fleck Informationszentrum\, Winkelfeld 6\, Oer-Erkenschwick\, Nordrhein-Westfalen\, 45739\, Deutschland
CATEGORIES:Verarbeiter
ATTACH;FMTTYPE=image/png:https://fleck-dach.de/wp-content/uploads/2023/12/fleck_seminar_sicherheit.png
ORGANIZER;CN="FLECK Akademie":MAILTO:akademie@fleck-dach.de
END:VEVENT
BEGIN:VEVENT
DTSTART;VALUE=DATE:20250221
DTEND;VALUE=DATE:20250223
DTSTAMP:20260426T015248
CREATED:20250106T140841Z
LAST-MODIFIED:20250106T140841Z
UID:10000347-1740096000-1740268799@fleck-dach.de
SUMMARY:Interne Messe PHD 2025
DESCRIPTION:Die interne Messe der größten polnischen Bedachungshändlerkooperation PHD (Polskie Hurtownie Dachowe) findet am 21. und 22. Februar statt. Vor Ort wird unser Handelsvertreter Florian Kurzbauer das Produktsortiment von FLECK präsentieren. Die PHD-Kooperation arbeitet eng mit der deutschen FDF-Kooperation zusammen\, bei der FLECK bereits seit 2020 gelistet ist.\n\n\n\n\n  \nPräsentiert von \n \n  \nFür Sie von FLECK vor Ort \nFlorian Kurzbauer\, Handelsvertreter in Österreich
URL:https://fleck-dach.de/termine/interne-messe-phd-2025/
LOCATION:Polen\, Poland
CATEGORIES:Verarbeiter
ATTACH;FMTTYPE=image/jpeg:https://fleck-dach.de/wp-content/uploads/2025/01/polen-krakau-5541729_1280.jpg
ORGANIZER;CN="Polskie Hurtownie Dachowe":MAILTO:rafał.wlodarski@phd.pl
END:VEVENT
BEGIN:VEVENT
DTSTART;TZID=Europe/Berlin:20250225T093000
DTEND;TZID=Europe/Berlin:20250225T150000
DTSTAMP:20260426T015248
CREATED:20240909T122047Z
LAST-MODIFIED:20250224T121841Z
UID:10000306-1740475800-1740495600@fleck-dach.de
SUMMARY:Baustoff Speed Training 2025 St. Pölten
DESCRIPTION:Das österreichische Baustoffausbildungszentrum wird 2025 wieder das Baustoff Speed Training durchführen. Am 25. Februar findet der Termin als Webinar statt. Top-Industrien präsentieren ihre Produktneuheiten. Dafür werden Kurzreferate zur Vertiefung des jeweiligen Produktwissens abgehalten. Den Anfang an dem Tag macht FLECK-Produktmanager Peter Nowack. \nWeitere Informationen und das Anmeldeformular finden Sie hier. \n  \nPräsentiert von \n \n  \nFür Sie von FLECK vor Ort \nPeter Nowack\, Produktmanager und Spezialist für Dachzubehör
URL:https://fleck-dach.de/termine/baustoff-speed-training-2025-st-poelten/
LOCATION:Online
CATEGORIES:Handel
ATTACH;FMTTYPE=image/jpeg:https://fleck-dach.de/wp-content/uploads/2022/10/fle_event_rockwool-schulung_darmstadt.jpg
ORGANIZER;CN="%C3%96sterreichisches Baustoff Ausbildungszentrum":MAILTO:office@baustoff-ausbildung.at
END:VEVENT
BEGIN:VEVENT
DTSTART;VALUE=DATE:20250228
DTEND;VALUE=DATE:20250301
DTSTAMP:20260426T015248
CREATED:20241106T130520Z
LAST-MODIFIED:20241106T130520Z
UID:10000317-1740700800-1740787199@fleck-dach.de
SUMMARY:Heinssen-Forum 2025
DESCRIPTION:Gerd Heinssen lädt am 28. Februar zum 4. Heinssen-Forum nach Horneburg ein. Zusammen mit seinen Industriepartnern hat der Baustoffhändler ein Programm gestaltet\, das interessante Vorträge und Präsentationen verspricht. Zudem sind ausgewählte Hersteller wie FLECK eingeladen\, ihr Sortiment zu präsentieren. Für FLECK vor Ort ist Gebietsverkaufsleiter Daniel Bläsing. \n  \nPräsentiert von \n \n  \nFür Sie von FLECK vor Ort \nDaniel Bläsing\, Gebietsverkaufsleiter im PLZ-Bereich 2
URL:https://fleck-dach.de/termine/heinssen-forum-2025/
LOCATION:Gerd Heinssen Baustoffe GmbH u. Co. KG Horneburg\, Wilhelmstraße 12\, Horneburg\, Niedersachsen\, 21640
CATEGORIES:Handel,Verarbeiter
ATTACH;FMTTYPE=image/jpeg:https://fleck-dach.de/wp-content/uploads/2023/01/portrait.jpeg
ORGANIZER;CN="Gern Heinssen Baustoffe GmbH u. Co. KG Horneburg":MAILTO:horneburg@heinssen.de
END:VEVENT
END:VCALENDAR