BEGIN:VCALENDAR
VERSION:2.0
PRODID:-//Fleck | Dachzubehör! - ECPv6.15.20//NONSGML v1.0//EN
CALSCALE:GREGORIAN
METHOD:PUBLISH
X-WR-CALNAME:Fleck | Dachzubehör!
X-ORIGINAL-URL:https://fleck-dach.de
X-WR-CALDESC:Veranstaltungen für Fleck | Dachzubehör!
REFRESH-INTERVAL;VALUE=DURATION:PT1H
X-Robots-Tag:noindex
X-PUBLISHED-TTL:PT1H
BEGIN:VTIMEZONE
TZID:Europe/Berlin
BEGIN:DAYLIGHT
TZOFFSETFROM:+0100
TZOFFSETTO:+0200
TZNAME:CEST
DTSTART:20240331T010000
END:DAYLIGHT
BEGIN:STANDARD
TZOFFSETFROM:+0200
TZOFFSETTO:+0100
TZNAME:CET
DTSTART:20241027T010000
END:STANDARD
BEGIN:DAYLIGHT
TZOFFSETFROM:+0100
TZOFFSETTO:+0200
TZNAME:CEST
DTSTART:20250330T010000
END:DAYLIGHT
BEGIN:STANDARD
TZOFFSETFROM:+0200
TZOFFSETTO:+0100
TZNAME:CET
DTSTART:20251026T010000
END:STANDARD
BEGIN:DAYLIGHT
TZOFFSETFROM:+0100
TZOFFSETTO:+0200
TZNAME:CEST
DTSTART:20260329T010000
END:DAYLIGHT
BEGIN:STANDARD
TZOFFSETFROM:+0200
TZOFFSETTO:+0100
TZNAME:CET
DTSTART:20261025T010000
END:STANDARD
END:VTIMEZONE
BEGIN:VEVENT
DTSTART;TZID=Europe/Berlin:20250702T090000
DTEND;TZID=Europe/Berlin:20250702T140000
DTSTAMP:20260425T183343
CREATED:20250312T110451Z
LAST-MODIFIED:20250602T070809Z
UID:10000374-1751446800-1751464800@fleck-dach.de
SUMMARY:Tag des Handwerks 2025
DESCRIPTION:Am 02. Juli 2025 lädt die Helmut von den Hoff GmbH zum Tag des Handwerks in Düren ein. Gebietsverkaufsleiter Erik Disselbeck (l.) wird die Veranstaltung mit einem kurzen Vortrag zu unserem Produktportfolio und aktuellen Aktionen begleiten. \n  \nPräsentiert von \n \n  \nFür Sie von FLECK vor Ort \nErik Disselbeck\, Gebietsverkaufsleiter in den PLZ-Bereichen 50\, 52–56\, 60–69
URL:https://fleck-dach.de/termine/tag-des-handwerks-2025/
LOCATION:Mariaweilerstr.61-63\, 52349 Düren\, Mariaweilerstraße 61-63\, Düren\, 52349\, Deutschland
CATEGORIES:Handel,Planer/Architekten,Verarbeiter
ATTACH;FMTTYPE=image/jpeg:https://fleck-dach.de/wp-content/uploads/2025/03/481251714_683142494049140_1049779162198910518_n-e1748848072207.jpg
END:VEVENT
BEGIN:VEVENT
DTSTART;VALUE=DATE:20250704
DTEND;VALUE=DATE:20250705
DTSTAMP:20260425T183343
CREATED:20250117T095408Z
LAST-MODIFIED:20250117T095408Z
UID:10000350-1751587200-1751673599@fleck-dach.de
SUMMARY:Sommerfest der DAEX GmbH in Hürth
DESCRIPTION:Am 4. Juli veranstaltet die DAEX GmbH in Hürth ein Sommerfest. Unser Gebietsverkaufsleiter Erik Disselbeck ist vor Ort. \n  \nPräsentiert von \n \n  \nFür Sie von FLECK vor Ort \nErik Disselbeck\, Gebietsverkaufsleiter in den PLZ-Bereichen 50\, 52–56\, 60–69 \n 
URL:https://fleck-dach.de/termine/sommerfest-der-daex-gmbh-in-huerth/
LOCATION:DAEX GmbH\, Hans-Böckler-Str. 151\, Hürth\, Nordrhein-Westfalen\, 50354\, Deutschland
CATEGORIES:Handel,Verarbeiter
ATTACH;FMTTYPE=image/jpeg:https://fleck-dach.de/wp-content/uploads/2025/01/daex-huerth-33869_110_web.jpg
ORGANIZER;CN="DAEX GmbH":MAILTO:info@da-ex.de
END:VEVENT
BEGIN:VEVENT
DTSTART;TZID=Europe/Berlin:20250704T140000
DTEND;TZID=Europe/Berlin:20250706T130000
DTSTAMP:20260425T183343
CREATED:20240816T120752Z
LAST-MODIFIED:20250602T071157Z
UID:10000296-1751637600-1751806800@fleck-dach.de
SUMMARY:117. Landesverbandstag Bayern
DESCRIPTION:Es ist wieder so weit: Die Dachdeckertage des Bayerischen Dachdeckerhandwerks finden in Neumarkt statt. Seitens FLECK werden unsere Gebietsverkaufsleiter Robert Middeweg\, Christian Schwarz und Robert Stocker vor Ort teilnehmen. \n  \nPräsentiert vom \n \n  \nFür Sie von FLECK vor Ort \nRobert Middeweg\, Gebietsverkaufsleiter in den PLZ-Bereichen 36\, 63\, 90–92\, 97 \nChristian Schwarz\, Gebietsverkaufsleiter in den PLZ-Bereichen 01\, 02\, 04–09\, 95–96\, 98–99 \nRobert Stocker\, Gebietsverkaufsleiter in den PLZ-Bereichen 80–89\, 93–94
URL:https://fleck-dach.de/termine/117-landesverbandstag-bayern/
LOCATION:Hotel Park Inn by Radison – Neumarkt\, Nürnberger Str. 4\, Neumarkt\, Bayern\, 92318\, Deutschland
CATEGORIES:Verarbeiter
ATTACH;FMTTYPE=image/jpeg:https://fleck-dach.de/wp-content/uploads/2024/08/bayern_germany-7534750_1280-e1748848241623.jpg
ORGANIZER;CN="Landesinnungsverband des Dachdeckerhandwerks Bayern":MAILTO:info@dachdecker.bayern
END:VEVENT
BEGIN:VEVENT
DTSTART;TZID=Europe/Berlin:20250708T090000
DTEND;TZID=Europe/Berlin:20250708T140000
DTSTAMP:20260425T183343
CREATED:20250523T112038Z
LAST-MODIFIED:20250602T070359Z
UID:10000390-1751965200-1751983200@fleck-dach.de
SUMMARY:Tool Day von Melle Gallhöfer 2025
DESCRIPTION:Verarbeiter haben beim Tool Day von Melle Gallhöfer in Duisburg die Möglichkeit wichtiges Fachwissen zu sammeln und News aus der Branche zu erhalten. Zu dem wird der neu gestaltete Verkaufsraum eingeweiht. Unsere Gebietsverkaufsleiter Stefan Bittner und Roman Burkart stellen vor Ort die FLECK-Produkte vor. \n  \nPräsentiert von \n \nFür Sie von FLECK vor Ort \nStefan Bittner\, Gebietsverkaufsleiter in den PLZ-Bereichen 40-42\, 47\, 51\, 57 \nAdrian Burkart\, Mitarbeiter im Verkaufsinnendienst
URL:https://fleck-dach.de/termine/tool-day-von-melle-gallhoefer-2025/
LOCATION:Melle Gallhöfer Dach GmbH Duisburg\, Rheindeichstraße 155\, Duisburg\, Nordrhein-Westfalen\, 47199\, Deutschland
CATEGORIES:Verarbeiter
ATTACH;FMTTYPE=image/jpeg:https://fleck-dach.de/wp-content/uploads/2024/04/duisburg.jpg
ORGANIZER;CN="Melle Gallh%C3%B6fer Dach GmbH":MAILTO:info@melle-gallhoefer.de
END:VEVENT
BEGIN:VEVENT
DTSTART;TZID=Europe/Berlin:20250724T130000
DTEND;TZID=Europe/Berlin:20250724T163000
DTSTAMP:20260425T183343
CREATED:20250623T084136Z
LAST-MODIFIED:20250623T084136Z
UID:10000400-1753362000-1753374600@fleck-dach.de
SUMMARY:Dammers Hausmesse
DESCRIPTION:Seit vielen Jahren ist die Rolf Dammers oHG ein zuverlässiger Partner für Dachdecker\, Zimmerer und Fassadenbauer. Am 24. Juli lädt das Unternehmen zur Hausmesse ein\, bei der auch FLECK vertreten sein wird. Gebietsverkaufsleiter Daniel Bläsing präsentiert vor Ort das FLECK-Produktprogramm und demonstriert unter anderem live die Verarbeitung der ECO FORM-Produkte. \nEine vorherige Anmeldung ist erwünscht. \n  \nPräsentiert von \n \n  \nFür Sie von FLECK vor Ort \nDaniel Bläsing\, Gebietsverkaufsleiter im PLZ-Bereich 2
URL:https://fleck-dach.de/termine/dammers-hausmesse/
LOCATION:Rolf Dammers oHG – Neumünster\, Leinestraße 12\, Neumünster\, Schleswig-Holstein\, 24539\, Deutschland
CATEGORIES:Handel,Planer/Architekten,Verarbeiter
ATTACH;FMTTYPE=image/png:https://fleck-dach.de/wp-content/uploads/2025/06/dammers-neumuenster-e1750667789642.png
ORGANIZER;CN="Rolf Dammers oHG":MAILTO:moin@dammers.de
END:VEVENT
END:VCALENDAR