BEGIN:VCALENDAR
VERSION:2.0
PRODID:-//Fleck | Dachzubehör! - ECPv6.15.20//NONSGML v1.0//EN
CALSCALE:GREGORIAN
METHOD:PUBLISH
X-WR-CALNAME:Fleck | Dachzubehör!
X-ORIGINAL-URL:https://fleck-dach.de
X-WR-CALDESC:Veranstaltungen für Fleck | Dachzubehör!
REFRESH-INTERVAL;VALUE=DURATION:PT1H
X-Robots-Tag:noindex
X-PUBLISHED-TTL:PT1H
BEGIN:VTIMEZONE
TZID:Europe/Berlin
BEGIN:DAYLIGHT
TZOFFSETFROM:+0100
TZOFFSETTO:+0200
TZNAME:CEST
DTSTART:20250330T010000
END:DAYLIGHT
BEGIN:STANDARD
TZOFFSETFROM:+0200
TZOFFSETTO:+0100
TZNAME:CET
DTSTART:20251026T010000
END:STANDARD
BEGIN:DAYLIGHT
TZOFFSETFROM:+0100
TZOFFSETTO:+0200
TZNAME:CEST
DTSTART:20260329T010000
END:DAYLIGHT
BEGIN:STANDARD
TZOFFSETFROM:+0200
TZOFFSETTO:+0100
TZNAME:CET
DTSTART:20261025T010000
END:STANDARD
BEGIN:DAYLIGHT
TZOFFSETFROM:+0100
TZOFFSETTO:+0200
TZNAME:CEST
DTSTART:20270328T010000
END:DAYLIGHT
BEGIN:STANDARD
TZOFFSETFROM:+0200
TZOFFSETTO:+0100
TZNAME:CET
DTSTART:20271031T010000
END:STANDARD
END:VTIMEZONE
BEGIN:VEVENT
DTSTART;TZID=Europe/Berlin:20260508T090000
DTEND;TZID=Europe/Berlin:20260508T180000
DTSTAMP:20260424T195353
CREATED:20260423T133648Z
LAST-MODIFIED:20260423T133648Z
UID:10000513-1778230800-1778263200@fleck-dach.de
SUMMARY:Dachdecker1kauf Ost eG Jubiläumsmesse - 80 Jahre Niederlassung Potsdam
DESCRIPTION:Am 8. Mai 2026 lädt der Dachdecker1kauf Ost eG zur Jubiläumsmesse anlässlich des 80-jährigen Bestehens der Niederlassung Potsdam ein. Von 9:00 bis 18:00 Uhr erwartet Besucher am Standort in Potsdam ein abwechslungsreicher Tag rund um Innovationen\, Technik und persönlichen Austausch. \nIm Fokus stehen aktuelle Lösungen und Entwicklungen aus den Bereichen Photovoltaik\, Flachdach\, Fassade und Holz. Zahlreiche Industriepartner präsentieren Neuheiten und bewährte Produkte und bieten die Möglichkeit zum direkten Austausch mit Experten. \nZu den Highlights zählen: \n\nD1K – Vorstellung der Geschäftsbereiche Photovoltaik\, Flachdach\, Fassade und Holz\nVELUX – neuer Rollladen\nDÖRKEN – Maxx Plus\, Polar\, Delta-Sofix System\nFLECK – der neue Solarflex-Universal-Kabeldurchgang\nESSERTEC – Sky-Lichtkuppel und Bänder\nITW Paslode – Reinigung von bis zu 3 Impulse-Nagelgeräten kostenlos\nBöcker – wegweisende Krantechnik\, Autokran in Aktion\nNeu in Potsdam – FHB Arbeitskleidung im Verkaufsraum\nund vieles mehr.\n\nBegleitet wird die Veranstaltung von einem vielseitigen kulinarischen Angebot – von Grill- und Fischspezialitäten über Bier & Co. bis hin zum Coffee-Bike. \nEin besonderes Highlight: Am Veranstaltungstag (08.05.) werden alle Lageraufträge mit einem Sondernachlass von 3 % vergütet. \n  \nPräsentiert von \n \nFür Sie von FLECK vor Ort \nOlaf Bellack\, Gebietsverkaufsleiter OST II (PLZ-Gebiet 1\, 03\, 39)
URL:https://fleck-dach.de/termine/dachdecker1kauf-ost-potsdam-einkauf-potsdam-80-jahre-jubilaeumsmesse/
LOCATION:Dachdecker-Einkauf Potsdam\, Erich-Arendt-Straße 1\, Potsdam\, Brandenburg\, 14469\, Deutschland
CATEGORIES:Handel,Planer/Architekten,Verarbeiter
ATTACH;FMTTYPE=image/png:https://fleck-dach.de/wp-content/uploads/2026/04/bildschirmfoto-2026-04-21-um-14.55.46-e1776776235364.png
ORGANIZER;CN="Dachdecker-Einkauf Ost eG":MAILTO:info@dachdecker1kauf.de
END:VEVENT
END:VCALENDAR