BEGIN:VCALENDAR
VERSION:2.0
PRODID:-//Fleck | Dachzubehör! - ECPv6.15.20//NONSGML v1.0//EN
CALSCALE:GREGORIAN
METHOD:PUBLISH
X-ORIGINAL-URL:https://fleck-dach.de
X-WR-CALDESC:Veranstaltungen für Fleck | Dachzubehör!
REFRESH-INTERVAL;VALUE=DURATION:PT1H
X-Robots-Tag:noindex
X-PUBLISHED-TTL:PT1H
BEGIN:VTIMEZONE
TZID:Europe/Berlin
BEGIN:DAYLIGHT
TZOFFSETFROM:+0100
TZOFFSETTO:+0200
TZNAME:CEST
DTSTART:20240331T010000
END:DAYLIGHT
BEGIN:STANDARD
TZOFFSETFROM:+0200
TZOFFSETTO:+0100
TZNAME:CET
DTSTART:20241027T010000
END:STANDARD
BEGIN:DAYLIGHT
TZOFFSETFROM:+0100
TZOFFSETTO:+0200
TZNAME:CEST
DTSTART:20250330T010000
END:DAYLIGHT
BEGIN:STANDARD
TZOFFSETFROM:+0200
TZOFFSETTO:+0100
TZNAME:CET
DTSTART:20251026T010000
END:STANDARD
BEGIN:DAYLIGHT
TZOFFSETFROM:+0100
TZOFFSETTO:+0200
TZNAME:CEST
DTSTART:20260329T010000
END:DAYLIGHT
BEGIN:STANDARD
TZOFFSETFROM:+0200
TZOFFSETTO:+0100
TZNAME:CET
DTSTART:20261025T010000
END:STANDARD
END:VTIMEZONE
BEGIN:VEVENT
DTSTART;VALUE=DATE:20250311
DTEND;VALUE=DATE:20250313
DTSTAMP:20260426T044040
CREATED:20250106T141938Z
LAST-MODIFIED:20250106T142129Z
UID:10000345-1741651200-1741823999@fleck-dach.de
SUMMARY:BAUVISTA Großhandelstag Kassel
DESCRIPTION:Am 11. und 12. März lädt BAUVISTA zum Großhandelstag in Kassel ein. Gebietsverkaufsleiter Alexander Hoffmann und Stefan Bittner unterstützen die Veranstaltung mit einem kurzen Vortrag (ca. 15 Minuten) zu unserem Produktportfolio sowie einem Präsentationsstand. \n  \nPräsentiert von \n \n  \nFür Sie von FLECK vor Ort \nAlexander Hoffmann\, Gebietsverkaufsleiter in den PLZ-Bereichen 44-46\, 48\, 49\, 58\, 59 \nStefan Bittner\, Gebietsverkaufsleiter in den PLZ-Bereichen 40-42\, 47\, 51\, 57
URL:https://fleck-dach.de/termine/bauvista-grosshandelstag-kassel/
LOCATION:Kassel\, Kassel\, Hessen\, Deutschland
CATEGORIES:Handel
ATTACH;FMTTYPE=image/jpeg:https://fleck-dach.de/wp-content/uploads/2024/03/kassel.jpg
ORGANIZER;CN="Bauvista GmbH & Co. KG":MAILTO:info@bauvista.de
END:VEVENT
END:VCALENDAR