BEGIN:VCALENDAR
VERSION:2.0
PRODID:-//Fleck | Dachzubehör! - ECPv6.15.20//NONSGML v1.0//EN
CALSCALE:GREGORIAN
METHOD:PUBLISH
X-WR-CALNAME:Fleck | Dachzubehör!
X-ORIGINAL-URL:https://fleck-dach.de
X-WR-CALDESC:Veranstaltungen für Fleck | Dachzubehör!
REFRESH-INTERVAL;VALUE=DURATION:PT1H
X-Robots-Tag:noindex
X-PUBLISHED-TTL:PT1H
BEGIN:VTIMEZONE
TZID:Europe/Berlin
BEGIN:DAYLIGHT
TZOFFSETFROM:+0100
TZOFFSETTO:+0200
TZNAME:CEST
DTSTART:20250330T010000
END:DAYLIGHT
BEGIN:STANDARD
TZOFFSETFROM:+0200
TZOFFSETTO:+0100
TZNAME:CET
DTSTART:20251026T010000
END:STANDARD
BEGIN:DAYLIGHT
TZOFFSETFROM:+0100
TZOFFSETTO:+0200
TZNAME:CEST
DTSTART:20260329T010000
END:DAYLIGHT
BEGIN:STANDARD
TZOFFSETFROM:+0200
TZOFFSETTO:+0100
TZNAME:CET
DTSTART:20261025T010000
END:STANDARD
BEGIN:DAYLIGHT
TZOFFSETFROM:+0100
TZOFFSETTO:+0200
TZNAME:CEST
DTSTART:20270328T010000
END:DAYLIGHT
BEGIN:STANDARD
TZOFFSETFROM:+0200
TZOFFSETTO:+0100
TZNAME:CET
DTSTART:20271031T010000
END:STANDARD
END:VTIMEZONE
BEGIN:VEVENT
DTSTART;TZID=Europe/Berlin:20260902T090000
DTEND;TZID=Europe/Berlin:20260902T190000
DTSTAMP:20260425T133618
CREATED:20260422T144026Z
LAST-MODIFIED:20260423T073901Z
UID:10000510-1788339600-1788375600@fleck-dach.de
SUMMARY:ROCKWOOL „Schrägdach kompakt“ Online-Seminar
DESCRIPTION:FLECK ist Teil des Online-Seminars „Schrägdach kompakt“\, das gebündeltes Fachwissen zur Planung und Ausführung von Schrägdachkonstruktionen im Neubau und in der Sanierung vermittelt. Im Fokus stehen die vielfältigen Anforderungen an Brand-\, Schall- und Wärmeschutz unter Berücksichtigung der Dauerhaftigkeit. \nDie Veranstaltung richtet sich an Dachhandwerker und vermittelt kompakt und praxisnah relevantes Wissen rund um die Schrägdachdämmung. Für FLECK ist Peter Nowack\, Senior-Produktmanager\, als Referent vertreten und bringt seine Expertise zu ausgewählten Fachthemen ein. \n  \nPräsentiert von \n \n  \nFür Sie von FLECK vor Ort \nPeter Nowack\, Senior-Produktmanager und Spezialist für Dachzubehör
URL:https://fleck-dach.de/termine/rockwool-schraegdach-kompakt-online-seminar/
LOCATION:Online-Seminar (digital)
CATEGORIES:Verarbeiter
ATTACH;FMTTYPE=image/png:https://fleck-dach.de/wp-content/uploads/2026/04/36bb629ad646fd658a327f62ce6ae66c-e1776323072540.png
ORGANIZER;CN="DEUTSCHE ROCKWOOL GmbH & Co. KG":MAILTO:info@rockwool.de
END:VEVENT
END:VCALENDAR